{"text_format":"1","workbook":"xlsx","n_sheets":2,"sheets":["三角席札印刷","名簿入力"],"not_rendered":{"charts":0,"images":0,"macros":1,"external_links":0,"defined_names":1,"comments":1,"pivot_tables":0},"unopened":[],"bounds":{"document_bytes":16777216,"sheet_cells":100000,"rows_first":2000,"rows_last":500,"rows_between":2000,"halvings":0,"cell_chars":16384,"cell_head_chars":4096},"cells_cut":0,"cells_raw":0,"read":"whole","date_system":"1900"}

{"sheet":"三角席札印刷","index":0,"n_rows":211,"n_cols":9,"rows_kept":211,"cut":false,"hidden":false,"merged":[[2,1,3,1],[2,6,3,6],[10,2,10,3],[11,2,11,3],[12,2,12,3],[13,2,13,3],[2,2,3,2],[2,3,3,3],[2,4,3,4],[2,5,3,5],[7,2,7,3],[7,4,7,5],[14,2,14,3],[15,2,15,3],[16,2,16,3],[17,2,17,3],[18,2,18,3],[10,4,10,5],[11,4,11,5],[12,4,12,5],[13,4,13,5],[14,4,14,5],[21,4,21,5],[22,4,22,5],[23,4,23,5],[24,4,24,5],[25,4,25,5],[26,4,26,5],[15,4,15,5],[16,4,16,5],[17,4,17,5],[18,4,18,5],[19,4,19,5],[20,4,20,5],[33,4,33,5],[34,4,34,5],[35,4,35,5],[36,4,36,5],[37,4,37,5],[38,4,38,5],[27,4,27,5],[28,4,28,5],[29,4,29,5],[30,4,30,5],[31,4,31,5],[32,4,32,5],[45,4,45,5],[46,4,46,5],[47,4,47,5],[48,4,48,5],[49,4,49,5],[50,4,50,5],[39,4,39,5],[40,4,40,5],[41,4,41,5],[42,4,42,5],[43,4,43,5],[44,4,44,5],[57,4,57,5],[58,4,58,5],[59,4,59,5],[60,4,60,5],[61,4,61,5],[62,4,62,5],[51,4,51,5],[52,4,52,5],[53,4,53,5],[54,4,54,5],[55,4,55,5],[56,4,56,5],[69,4,69,5],[70,4,70,5],[71,4,71,5],[72,4,72,5],[73,4,73,5],[74,4,74,5],[63,4,63,5],[64,4,64,5],[65,4,65,5],[66,4,66,5],[67,4,67,5],[68,4,68,5],[81,4,81,5],[82,4,82,5],[83,4,83,5],[84,4,84,5],[85,4,85,5],[86,4,86,5],[75,4,75,5],[76,4,76,5],[77,4,77,5],[78,4,78,5],[79,4,79,5],[80,4,80,5],[93,4,93,5],[94,4,94,5],[95,4,95,5],[96,4,96,5],[97,4,97,5],[98,4,98,5],[87,4,87,5],[88,4,88,5],[89,4,89,5],[90,4,90,5],[91,4,91,5],[92,4,92,5],[107,4,107,5],[108,4,108,5],[109,4,109,5],[110,4,110,5],[99,4,99,5],[100,4,100,5],[101,4,101,5],[102,4,102,5],[103,4,103,5],[104,4,104,5],[123,4,123,5],[124,4,124,5],[125,4,125,5],[125,2,125,3],[104,2,104,3],[105,2,105,3],[106,2,106,3],[107,2,107,3],[108,2,108,3],[109,2,109,3],[117,4,117,5],[118,4,118,5],[119,4,119,5],[120,4,120,5],[121,4,121,5],[122,4,122,5],[111,4,111,5],[112,4,112,5],[113,4,113,5],[114,4,114,5],[115,4,115,5],[116,4,116,5],[105,4,105,5],[106,4,106,5],[19,2,19,3],[20,2,20,3],[21,2,21,3],[22,2,22,3],[23,2,23,3],[24,2,24,3],[25,2,25,3],[116,2,116,3],[117,2,117,3],[110,2,110,3],[111,2,111,3],[112,2,112,3],[113,2,113,3],[114,2,114,3],[115,2,115,3],[26,2,26,3],[27,2,27,3],[28,2,28,3],[29,2,29,3],[30,2,30,3],[31,2,31,3],[32,2,32,3],[33,2,33,3],[34,2,34,3],[122,2,122,3],[123,2,123,3],[124,2,124,3],[118,2,118,3],[119,2,119,3],[120,2,120,3],[121,2,121,3],[38,2,38,3],[39,2,39,3],[40,2,40,3],[41,2,41,3],[42,2,42,3],[43,2,43,3],[62,2,62,3],[63,2,63,3],[64,2,64,3],[65,2,65,3],[66,2,66,3],[67,2,67,3],[56,2,56,3],[57,2,57,3],[58,2,58,3],[59,2,59,3],[60,2,60,3],[35,2,35,3],[36,2,36,3],[37,2,37,3],[50,2,50,3],[51,2,51,3],[52,2,52,3],[53,2,53,3],[54,2,54,3],[55,2,55,3],[44,2,44,3],[45,2,45,3],[46,2,46,3],[47,2,47,3],[48,2,48,3],[49,2,49,3],[61,2,61,3],[74,2,74,3],[75,2,75,3],[76,2,76,3],[77,2,77,3],[78,2,78,3],[79,2,79,3],[68,2,68,3],[69,2,69,3],[70,2,70,3],[71,2,71,3],[72,2,72,3],[73,2,73,3],[86,2,86,3],[87,2,87,3],[88,2,88,3],[89,2,89,3],[90,2,90,3],[91,2,91,3],[80,2,80,3],[81,2,81,3],[82,2,82,3],[83,2,83,3],[84,2,84,3],[85,2,85,3],[126,4,126,5],[127,4,127,5],[128,4,128,5],[129,4,129,5],[130,4,130,5],[131,4,131,5],[126,2,126,3],[127,2,127,3],[128,2,128,3],[129,2,129,3],[130,2,130,3],[131,2,131,3],[98,2,98,3],[99,2,99,3],[100,2,100,3],[101,2,101,3],[102,2,102,3],[103,2,103,3],[92,2,92,3],[93,2,93,3],[94,2,94,3],[95,2,95,3],[96,2,96,3],[97,2,97,3],[132,2,132,3],[133,2,133,3],[134,2,134,3],[135,2,135,3],[136,2,136,3],[137,2,137,3],[138,2,138,3],[139,2,139,3],[140,2,140,3],[141,2,141,3],[142,2,142,3],[143,2,143,3],[144,2,144,3],[145,2,145,3],[146,2,146,3],[147,2,147,3],[148,2,148,3],[149,2,149,3],[150,2,150,3],[151,2,151,3],[152,2,152,3],[153,2,153,3],[154,2,154,3],[155,2,155,3],[156,2,156,3],[157,2,157,3],[158,2,158,3],[159,2,159,3],[160,2,160,3],[161,2,161,3],[162,2,162,3],[163,2,163,3],[164,2,164,3],[165,2,165,3],[166,2,166,3],[167,2,167,3],[168,2,168,3],[169,2,169,3],[170,2,170,3],[171,2,171,3],[172,2,172,3],[173,2,173,3],[174,2,174,3],[175,2,175,3],[176,2,176,3],[177,2,177,3],[178,2,178,3],[179,2,179,3],[180,2,180,3],[181,2,181,3],[182,2,182,3],[183,2,183,3],[184,2,184,3],[185,2,185,3],[186,2,186,3],[187,2,187,3],[188,2,188,3],[189,2,189,3],[190,2,190,3],[191,2,191,3],[192,2,192,3],[193,2,193,3],[194,2,194,3],[195,2,195,3],[196,2,196,3],[197,2,197,3],[198,2,198,3],[199,2,199,3],[200,2,200,3],[201,2,201,3],[202,2,202,3],[203,2,203,3],[204,2,204,3],[205,2,205,3],[206,2,206,3],[207,2,207,3],[208,2,208,3],[209,2,209,3],[210,2,210,3],[132,4,132,5],[133,4,133,5],[134,4,134,5],[135,4,135,5],[136,4,136,5],[137,4,137,5],[138,4,138,5],[139,4,139,5],[140,4,140,5],[141,4,141,5],[142,4,142,5],[143,4,143,5],[144,4,144,5],[145,4,145,5],[146,4,146,5],[147,4,147,5],[148,4,148,5],[149,4,149,5],[150,4,150,5],[151,4,151,5],[152,4,152,5],[153,4,153,5],[154,4,154,5],[155,4,155,5],[156,4,156,5],[157,4,157,5],[158,4,158,5],[159,4,159,5],[160,4,160,5],[161,4,161,5],[162,4,162,5],[163,4,163,5],[164,4,164,5],[165,4,165,5],[166,4,166,5],[182,4,182,5],[183,4,183,5],[184,4,184,5],[167,4,167,5],[168,4,168,5],[169,4,169,5],[170,4,170,5],[171,4,171,5],[172,4,172,5],[173,4,173,5],[174,4,174,5],[175,4,175,5],[210,4,210,5],[194,4,194,5],[195,4,195,5],[196,4,196,5],[197,4,197,5],[198,4,198,5],[199,4,199,5],[200,4,200,5],[201,4,201,5],[202,4,202,5],[2,7,3,7],[2,8,3,8],[203,4,203,5],[204,4,204,5],[205,4,205,5],[206,4,206,5],[207,4,207,5],[208,4,208,5],[209,4,209,5],[185,4,185,5],[186,4,186,5],[187,4,187,5],[188,4,188,5],[189,4,189,5],[190,4,190,5],[191,4,191,5],[192,4,192,5],[193,4,193,5],[176,4,176,5],[177,4,177,5],[178,4,178,5],[179,4,179,5],[180,4,180,5],[181,4,181,5]]}
[1,"まず別シートで名簿入力を行ってください。",null,null,null,null,"会議用三角名札（A4用紙印刷用）"]
[28]
[120,null,{"$f":"E8","v":"工場長　坂上　茂"},{"$f":"C8","v":"うえもんの教材室"},{"$f":"D3","v":"うえもんの教材室"},{"$f":"C3","v":"工場長　坂上　茂"},null,null,"印\n刷\nし\nて\nは\nみ\n出\nす\n部\n分\nは\n切\nり\n取\nっ\nて\nく\nだ\nさ\nい"]
[583]
[28]
[null,128,162,162,162,162,162]
[2,"印刷プレビューボタンで印刷状態を確認。入らない場合はＤ３のフォントサイズを小さくしてください。"]
["印刷Ｎｏ．",1,{"$f":"VLOOKUP(B8,B12:F211,2)","v":"うえもんの教材室"},null,{"$f":"VLOOKUP(B8,B12:F211,4)","v":"工場長　坂上　茂"}]
[null,1]
[3,"印刷ボタンをクリックすると，何番まで印刷しますかと出るので，終了番号を入力してください。"]
[null,"No.","所属",null,"職名＋氏名"]
[null,1,{"$f":"名簿入力!B2","v":"うえもんの教材室"},null,{"$f":"名簿入力!C2&\"　\"&名簿入力!D2","v":"工場長　坂上　茂"}]
[null,2,{"$f":"名簿入力!B3","v":"鹿児島ＡＴ研究会"},null,{"$f":"名簿入力!C3&\"　\"&名簿入力!D3","v":"会員　坂上　茂"}]
[null,3,{"$f":"名簿入力!B4","v":"鹿児島県マルチメディア教育研究会"},null,{"$f":"名簿入力!C4&\"　\"&名簿入力!D4","v":"会員　坂上　茂"}]
[null,4,{"$f":"名簿入力!B5","v":0},null,{"$f":"名簿入力!C5&\"　\"&名簿入力!D5","v":"　"}]
[null,5,{"$f":"名簿入力!B6","v":0},null,{"$f":"名簿入力!C6&\"　\"&名簿入力!D6","v":"　"}]
[null,6,{"$f":"名簿入力!B7","v":0},null,{"$f":"名簿入力!C7&\"　\"&名簿入力!D7","v":"　"}]
[null,7,{"$f":"名簿入力!B8","v":0},null,{"$f":"名簿入力!C8&\"　\"&名簿入力!D8","v":"　"}]
[null,8,{"$f":"名簿入力!B9","v":0},null,{"$f":"名簿入力!C9&\"　\"&名簿入力!D9","v":"　"}]
[null,9,{"$f":"名簿入力!B10","v":0},null,{"$f":"名簿入力!C10&\"　\"&名簿入力!D10","v":"　"}]
[null,10,{"$f":"名簿入力!B11","v":0},null,{"$f":"名簿入力!C11&\"　\"&名簿入力!D11","v":"　"}]
[null,11,{"$f":"名簿入力!B12","v":0},null,{"$f":"名簿入力!C12&\"　\"&名簿入力!D12","v":"　"}]
[null,12,{"$f":"名簿入力!B13","v":0},null,{"$f":"名簿入力!C13&\"　\"&名簿入力!D13","v":"　"}]
[null,13,{"$f":"名簿入力!B14","v":0},null,{"$f":"名簿入力!C14&\"　\"&名簿入力!D14","v":"　"}]
[null,14,{"$f":"名簿入力!B15","v":0},null,{"$f":"名簿入力!C15&\"　\"&名簿入力!D15","v":"　"}]
[null,15,{"$f":"名簿入力!B16","v":0},null,{"$f":"名簿入力!C16&\"　\"&名簿入力!D16","v":"　"}]
[null,16,{"$f":"名簿入力!B17","v":0},null,{"$f":"名簿入力!C17&\"　\"&名簿入力!D17","v":"　"}]
[null,17,{"$f":"名簿入力!B18","v":0},null,{"$f":"名簿入力!C18&\"　\"&名簿入力!D18","v":"　"}]
[null,18,{"$f":"名簿入力!B19","v":0},null,{"$f":"名簿入力!C19&\"　\"&名簿入力!D19","v":"　"}]
[null,19,{"$f":"名簿入力!B20","v":0},null,{"$f":"名簿入力!C20&\"　\"&名簿入力!D20","v":"　"}]
[null,20,{"$f":"名簿入力!B21","v":0},null,{"$f":"名簿入力!C21&\"　\"&名簿入力!D21","v":"　"}]
[null,21,{"$f":"名簿入力!B22","v":0},null,{"$f":"名簿入力!C22&\"　\"&名簿入力!D22","v":"　"}]
[null,22,{"$f":"名簿入力!B23","v":0},null,{"$f":"名簿入力!C23&\"　\"&名簿入力!D23","v":"　"}]
[null,23,{"$f":"名簿入力!B24","v":0},null,{"$f":"名簿入力!C24&\"　\"&名簿入力!D24","v":"　"}]
[null,24,{"$f":"名簿入力!B25","v":0},null,{"$f":"名簿入力!C25&\"　\"&名簿入力!D25","v":"　"}]
[null,25,{"$f":"名簿入力!B26","v":0},null,{"$f":"名簿入力!C26&\"　\"&名簿入力!D26","v":"　"}]
[null,26,{"$f":"名簿入力!B27","v":0},null,{"$f":"名簿入力!C27&\"　\"&名簿入力!D27","v":"　"}]
[null,27,{"$f":"名簿入力!B28","v":0},null,{"$f":"名簿入力!C28&\"　\"&名簿入力!D28","v":"　"}]
[null,28,{"$f":"名簿入力!B29","v":0},null,{"$f":"名簿入力!C29&\"　\"&名簿入力!D29","v":"　"}]
[null,29,{"$f":"名簿入力!B30","v":0},null,{"$f":"名簿入力!C30&\"　\"&名簿入力!D30","v":"　"}]
[null,30,{"$f":"名簿入力!B31","v":0},null,{"$f":"名簿入力!C31&\"　\"&名簿入力!D31","v":"　"}]
[null,31,{"$f":"名簿入力!B32","v":0},null,{"$f":"名簿入力!C32&\"　\"&名簿入力!D32","v":"　"}]
[null,32,{"$f":"名簿入力!B33","v":0},null,{"$f":"名簿入力!C33&\"　\"&名簿入力!D33","v":"　"}]
[null,33,{"$f":"名簿入力!B34","v":0},null,{"$f":"名簿入力!C34&\"　\"&名簿入力!D34","v":"　"}]
[null,34,{"$f":"名簿入力!B35","v":0},null,{"$f":"名簿入力!C35&\"　\"&名簿入力!D35","v":"　"}]
[null,35,{"$f":"名簿入力!B36","v":0},null,{"$f":"名簿入力!C36&\"　\"&名簿入力!D36","v":"　"}]
[null,36,{"$f":"名簿入力!B37","v":0},null,{"$f":"名簿入力!C37&\"　\"&名簿入力!D37","v":"　"}]
[null,37,{"$f":"名簿入力!B38","v":0},null,{"$f":"名簿入力!C38&\"　\"&名簿入力!D38","v":"　"}]
[null,38,{"$f":"名簿入力!B39","v":0},null,{"$f":"名簿入力!C39&\"　\"&名簿入力!D39","v":"　"}]
[null,39,{"$f":"名簿入力!B40","v":0},null,{"$f":"名簿入力!C40&\"　\"&名簿入力!D40","v":"　"}]
[null,40,{"$f":"名簿入力!B41","v":0},null,{"$f":"名簿入力!C41&\"　\"&名簿入力!D41","v":"　"}]
[null,41,{"$f":"名簿入力!B42","v":0},null,{"$f":"名簿入力!C42&\"　\"&名簿入力!D42","v":"　"}]
[null,42,{"$f":"名簿入力!B43","v":0},null,{"$f":"名簿入力!C43&\"　\"&名簿入力!D43","v":"　"}]
[null,43,{"$f":"名簿入力!B44","v":0},null,{"$f":"名簿入力!C44&\"　\"&名簿入力!D44","v":"　"}]
[null,44,{"$f":"名簿入力!B45","v":0},null,{"$f":"名簿入力!C45&\"　\"&名簿入力!D45","v":"　"}]
[null,45,{"$f":"名簿入力!B46","v":0},null,{"$f":"名簿入力!C46&\"　\"&名簿入力!D46","v":"　"}]
[null,46,{"$f":"名簿入力!B47","v":0},null,{"$f":"名簿入力!C47&\"　\"&名簿入力!D47","v":"　"}]
[null,47,{"$f":"名簿入力!B48","v":0},null,{"$f":"名簿入力!C48&\"　\"&名簿入力!D48","v":"　"}]
[null,48,{"$f":"名簿入力!B49","v":0},null,{"$f":"名簿入力!C49&\"　\"&名簿入力!D49","v":"　"}]
[null,49,{"$f":"名簿入力!B50","v":0},null,{"$f":"名簿入力!C50&\"　\"&名簿入力!D50","v":"　"}]
[null,50,{"$f":"名簿入力!B51","v":0},null,{"$f":"名簿入力!C51&\"　\"&名簿入力!D51","v":"　"}]
[null,51,{"$f":"名簿入力!B52","v":0},null,{"$f":"名簿入力!C52&\"　\"&名簿入力!D52","v":"　"}]
[null,52,{"$f":"名簿入力!B53","v":0},null,{"$f":"名簿入力!C53&\"　\"&名簿入力!D53","v":"　"}]
[null,53,{"$f":"名簿入力!B54","v":0},null,{"$f":"名簿入力!C54&\"　\"&名簿入力!D54","v":"　"}]
[null,54,{"$f":"名簿入力!B55","v":0},null,{"$f":"名簿入力!C55&\"　\"&名簿入力!D55","v":"　"}]
[null,55,{"$f":"名簿入力!B56","v":0},null,{"$f":"名簿入力!C56&\"　\"&名簿入力!D56","v":"　"}]
[null,56,{"$f":"名簿入力!B57","v":0},null,{"$f":"名簿入力!C57&\"　\"&名簿入力!D57","v":"　"}]
[null,57,{"$f":"名簿入力!B58","v":0},null,{"$f":"名簿入力!C58&\"　\"&名簿入力!D58","v":"　"}]
[null,58,{"$f":"名簿入力!B59","v":0},null,{"$f":"名簿入力!C59&\"　\"&名簿入力!D59","v":"　"}]
[null,59,{"$f":"名簿入力!B60","v":0},null,{"$f":"名簿入力!C60&\"　\"&名簿入力!D60","v":"　"}]
[null,60,{"$f":"名簿入力!B61","v":0},null,{"$f":"名簿入力!C61&\"　\"&名簿入力!D61","v":"　"}]
[null,61,{"$f":"名簿入力!B62","v":0},null,{"$f":"名簿入力!C62&\"　\"&名簿入力!D62","v":"　"}]
[null,62,{"$f":"名簿入力!B63","v":0},null,{"$f":"名簿入力!C63&\"　\"&名簿入力!D63","v":"　"}]
[null,63,{"$f":"名簿入力!B64","v":0},null,{"$f":"名簿入力!C64&\"　\"&名簿入力!D64","v":"　"}]
[null,64,{"$f":"名簿入力!B65","v":0},null,{"$f":"名簿入力!C65&\"　\"&名簿入力!D65","v":"　"}]
[null,65,{"$f":"名簿入力!B66","v":0},null,{"$f":"名簿入力!C66&\"　\"&名簿入力!D66","v":"　"}]
[null,66,{"$f":"名簿入力!B67","v":0},null,{"$f":"名簿入力!C67&\"　\"&名簿入力!D67","v":"　"}]
[null,67,{"$f":"名簿入力!B68","v":0},null,{"$f":"名簿入力!C68&\"　\"&名簿入力!D68","v":"　"}]
[null,68,{"$f":"名簿入力!B69","v":0},null,{"$f":"名簿入力!C69&\"　\"&名簿入力!D69","v":"　"}]
[null,69,{"$f":"名簿入力!B70","v":0},null,{"$f":"名簿入力!C70&\"　\"&名簿入力!D70","v":"　"}]
[null,70,{"$f":"名簿入力!B71","v":0},null,{"$f":"名簿入力!C71&\"　\"&名簿入力!D71","v":"　"}]
[null,71,{"$f":"名簿入力!B72","v":0},null,{"$f":"名簿入力!C72&\"　\"&名簿入力!D72","v":"　"}]
[null,72,{"$f":"名簿入力!B73","v":0},null,{"$f":"名簿入力!C73&\"　\"&名簿入力!D73","v":"　"}]
[null,73,{"$f":"名簿入力!B74","v":0},null,{"$f":"名簿入力!C74&\"　\"&名簿入力!D74","v":"　"}]
[null,74,{"$f":"名簿入力!B75","v":0},null,{"$f":"名簿入力!C75&\"　\"&名簿入力!D75","v":"　"}]
[null,75,{"$f":"名簿入力!B76","v":0},null,{"$f":"名簿入力!C76&\"　\"&名簿入力!D76","v":"　"}]
[null,76,{"$f":"名簿入力!B77","v":0},null,{"$f":"名簿入力!C77&\"　\"&名簿入力!D77","v":"　"}]
[null,77,{"$f":"名簿入力!B78","v":0},null,{"$f":"名簿入力!C78&\"　\"&名簿入力!D78","v":"　"}]
[null,78,{"$f":"名簿入力!B79","v":0},null,{"$f":"名簿入力!C79&\"　\"&名簿入力!D79","v":"　"}]
[null,79,{"$f":"名簿入力!B80","v":0},null,{"$f":"名簿入力!C80&\"　\"&名簿入力!D80","v":"　"}]
[null,80,{"$f":"名簿入力!B81","v":0},null,{"$f":"名簿入力!C81&\"　\"&名簿入力!D81","v":"　"}]
[null,81,{"$f":"名簿入力!B82","v":0},null,{"$f":"名簿入力!C82&\"　\"&名簿入力!D82","v":"　"}]
[null,82,{"$f":"名簿入力!B83","v":0},null,{"$f":"名簿入力!C83&\"　\"&名簿入力!D83","v":"　"}]
[null,83,{"$f":"名簿入力!B84","v":0},null,{"$f":"名簿入力!C84&\"　\"&名簿入力!D84","v":"　"}]
[null,84,{"$f":"名簿入力!B85","v":0},null,{"$f":"名簿入力!C85&\"　\"&名簿入力!D85","v":"　"}]
[null,85,{"$f":"名簿入力!B86","v":0},null,{"$f":"名簿入力!C86&\"　\"&名簿入力!D86","v":"　"}]
[null,86,{"$f":"名簿入力!B87","v":0},null,{"$f":"名簿入力!C87&\"　\"&名簿入力!D87","v":"　"}]
[null,87,{"$f":"名簿入力!B88","v":0},null,{"$f":"名簿入力!C88&\"　\"&名簿入力!D88","v":"　"}]
[null,88,{"$f":"名簿入力!B89","v":0},null,{"$f":"名簿入力!C89&\"　\"&名簿入力!D89","v":"　"}]
[null,89,{"$f":"名簿入力!B90","v":0},null,{"$f":"名簿入力!C90&\"　\"&名簿入力!D90","v":"　"}]
[null,90,{"$f":"名簿入力!B91","v":0},null,{"$f":"名簿入力!C91&\"　\"&名簿入力!D91","v":"　"}]
[null,91,{"$f":"名簿入力!B92","v":0},null,{"$f":"名簿入力!C92&\"　\"&名簿入力!D92","v":"　"}]
[null,92,{"$f":"名簿入力!B93","v":0},null,{"$f":"名簿入力!C93&\"　\"&名簿入力!D93","v":"　"}]
[null,93,{"$f":"名簿入力!B94","v":0},null,{"$f":"名簿入力!C94&\"　\"&名簿入力!D94","v":"　"}]
[null,94,{"$f":"名簿入力!B95","v":0},null,{"$f":"名簿入力!C95&\"　\"&名簿入力!D95","v":"　"}]
[null,95,{"$f":"名簿入力!B96","v":0},null,{"$f":"名簿入力!C96&\"　\"&名簿入力!D96","v":"　"}]
[null,96,{"$f":"名簿入力!B97","v":0},null,{"$f":"名簿入力!C97&\"　\"&名簿入力!D97","v":"　"}]
[null,97,{"$f":"名簿入力!B98","v":0},null,{"$f":"名簿入力!C98&\"　\"&名簿入力!D98","v":"　"}]
[null,98,{"$f":"名簿入力!B99","v":0},null,{"$f":"名簿入力!C99&\"　\"&名簿入力!D99","v":"　"}]
[null,99,{"$f":"名簿入力!B100","v":0},null,{"$f":"名簿入力!C100&\"　\"&名簿入力!D100","v":"　"}]
[null,100,{"$f":"名簿入力!B101","v":0},null,{"$f":"名簿入力!C101&\"　\"&名簿入力!D101","v":"　"}]
[null,101,{"$f":"名簿入力!B102","v":0},null,{"$f":"名簿入力!C102&\"　\"&名簿入力!D102","v":"　"}]
[null,102,{"$f":"名簿入力!B103","v":0},null,{"$f":"名簿入力!C103&\"　\"&名簿入力!D103","v":"　"}]
[null,103,{"$f":"名簿入力!B104","v":0},null,{"$f":"名簿入力!C104&\"　\"&名簿入力!D104","v":"　"}]
[null,104,{"$f":"名簿入力!B105","v":0},null,{"$f":"名簿入力!C105&\"　\"&名簿入力!D105","v":"　"}]
[null,105,{"$f":"名簿入力!B106","v":0},null,{"$f":"名簿入力!C106&\"　\"&名簿入力!D106","v":"　"}]
[null,106,{"$f":"名簿入力!B107","v":0},null,{"$f":"名簿入力!C107&\"　\"&名簿入力!D107","v":"　"}]
[null,107,{"$f":"名簿入力!B108","v":0},null,{"$f":"名簿入力!C108&\"　\"&名簿入力!D108","v":"　"}]
[null,108,{"$f":"名簿入力!B109","v":0},null,{"$f":"名簿入力!C109&\"　\"&名簿入力!D109","v":"　"}]
[null,109,{"$f":"名簿入力!B110","v":0},null,{"$f":"名簿入力!C110&\"　\"&名簿入力!D110","v":"　"}]
[null,110,{"$f":"名簿入力!B111","v":0},null,{"$f":"名簿入力!C111&\"　\"&名簿入力!D111","v":"　"}]
[null,111,{"$f":"名簿入力!B112","v":0},null,{"$f":"名簿入力!C112&\"　\"&名簿入力!D112","v":"　"}]
[null,112,{"$f":"名簿入力!B113","v":0},null,{"$f":"名簿入力!C113&\"　\"&名簿入力!D113","v":"　"}]
[null,113,{"$f":"名簿入力!B114","v":0},null,{"$f":"名簿入力!C114&\"　\"&名簿入力!D114","v":"　"}]
[null,114,{"$f":"名簿入力!B115","v":0},null,{"$f":"名簿入力!C115&\"　\"&名簿入力!D115","v":"　"}]
[null,115,{"$f":"名簿入力!B116","v":0},null,{"$f":"名簿入力!C116&\"　\"&名簿入力!D116","v":"　"}]
[null,116,{"$f":"名簿入力!B117","v":0},null,{"$f":"名簿入力!C117&\"　\"&名簿入力!D117","v":"　"}]
[null,117,{"$f":"名簿入力!B118","v":0},null,{"$f":"名簿入力!C118&\"　\"&名簿入力!D118","v":"　"}]
[null,118,{"$f":"名簿入力!B119","v":0},null,{"$f":"名簿入力!C119&\"　\"&名簿入力!D119","v":"　"}]
[null,119,{"$f":"名簿入力!B120","v":0},null,{"$f":"名簿入力!C120&\"　\"&名簿入力!D120","v":"　"}]
[null,120,{"$f":"名簿入力!B121","v":0},null,{"$f":"名簿入力!C121&\"　\"&名簿入力!D121","v":"　"}]
[null,121,{"$f":"名簿入力!B122","v":0},null,{"$f":"名簿入力!C122&\"　\"&名簿入力!D122","v":"　"}]
[null,122,{"$f":"名簿入力!B123","v":0},null,{"$f":"名簿入力!C123&\"　\"&名簿入力!D123","v":"　"}]
[null,123,{"$f":"名簿入力!B124","v":0},null,{"$f":"名簿入力!C124&\"　\"&名簿入力!D124","v":"　"}]
[null,124,{"$f":"名簿入力!B125","v":0},null,{"$f":"名簿入力!C125&\"　\"&名簿入力!D125","v":"　"}]
[null,125,{"$f":"名簿入力!B126","v":0},null,{"$f":"名簿入力!C126&\"　\"&名簿入力!D126","v":"　"}]
[null,126,{"$f":"名簿入力!B127","v":0},null,{"$f":"名簿入力!C127&\"　\"&名簿入力!D127","v":"　"}]
[null,127,{"$f":"名簿入力!B128","v":0},null,{"$f":"名簿入力!C128&\"　\"&名簿入力!D128","v":"　"}]
[null,128,{"$f":"名簿入力!B129","v":0},null,{"$f":"名簿入力!C129&\"　\"&名簿入力!D129","v":"　"}]
[null,129,{"$f":"名簿入力!B130","v":0},null,{"$f":"名簿入力!C130&\"　\"&名簿入力!D130","v":"　"}]
[null,130,{"$f":"名簿入力!B131","v":0},null,{"$f":"名簿入力!C131&\"　\"&名簿入力!D131","v":"　"}]
[null,131,{"$f":"名簿入力!B132","v":0},null,{"$f":"名簿入力!C132&\"　\"&名簿入力!D132","v":"　"}]
[null,132,{"$f":"名簿入力!B133","v":0},null,{"$f":"名簿入力!C133&\"　\"&名簿入力!D133","v":"　"}]
[null,133,{"$f":"名簿入力!B134","v":0},null,{"$f":"名簿入力!C134&\"　\"&名簿入力!D134","v":"　"}]
[null,134,{"$f":"名簿入力!B135","v":0},null,{"$f":"名簿入力!C135&\"　\"&名簿入力!D135","v":"　"}]
[null,135,{"$f":"名簿入力!B136","v":0},null,{"$f":"名簿入力!C136&\"　\"&名簿入力!D136","v":"　"}]
[null,136,{"$f":"名簿入力!B137","v":0},null,{"$f":"名簿入力!C137&\"　\"&名簿入力!D137","v":"　"}]
[null,137,{"$f":"名簿入力!B138","v":0},null,{"$f":"名簿入力!C138&\"　\"&名簿入力!D138","v":"　"}]
[null,138,{"$f":"名簿入力!B139","v":0},null,{"$f":"名簿入力!C139&\"　\"&名簿入力!D139","v":"　"}]
[null,139,{"$f":"名簿入力!B140","v":0},null,{"$f":"名簿入力!C140&\"　\"&名簿入力!D140","v":"　"}]
[null,140,{"$f":"名簿入力!B141","v":0},null,{"$f":"名簿入力!C141&\"　\"&名簿入力!D141","v":"　"}]
[null,141,{"$f":"名簿入力!B142","v":0},null,{"$f":"名簿入力!C142&\"　\"&名簿入力!D142","v":"　"}]
[null,142,{"$f":"名簿入力!B143","v":0},null,{"$f":"名簿入力!C143&\"　\"&名簿入力!D143","v":"　"}]
[null,143,{"$f":"名簿入力!B144","v":0},null,{"$f":"名簿入力!C144&\"　\"&名簿入力!D144","v":"　"}]
[null,144,{"$f":"名簿入力!B145","v":0},null,{"$f":"名簿入力!C145&\"　\"&名簿入力!D145","v":"　"}]
[null,145,{"$f":"名簿入力!B146","v":0},null,{"$f":"名簿入力!C146&\"　\"&名簿入力!D146","v":"　"}]
[null,146,{"$f":"名簿入力!B147","v":0},null,{"$f":"名簿入力!C147&\"　\"&名簿入力!D147","v":"　"}]
[null,147,{"$f":"名簿入力!B148","v":0},null,{"$f":"名簿入力!C148&\"　\"&名簿入力!D148","v":"　"}]
[null,148,{"$f":"名簿入力!B149","v":0},null,{"$f":"名簿入力!C149&\"　\"&名簿入力!D149","v":"　"}]
[null,149,{"$f":"名簿入力!B150","v":0},null,{"$f":"名簿入力!C150&\"　\"&名簿入力!D150","v":"　"}]
[null,150,{"$f":"名簿入力!B151","v":0},null,{"$f":"名簿入力!C151&\"　\"&名簿入力!D151","v":"　"}]
[null,151,{"$f":"名簿入力!B152","v":0},null,{"$f":"名簿入力!C152&\"　\"&名簿入力!D152","v":"　"}]
[null,152,{"$f":"名簿入力!B153","v":0},null,{"$f":"名簿入力!C153&\"　\"&名簿入力!D153","v":"　"}]
[null,153,{"$f":"名簿入力!B154","v":0},null,{"$f":"名簿入力!C154&\"　\"&名簿入力!D154","v":"　"}]
[null,154,{"$f":"名簿入力!B155","v":0},null,{"$f":"名簿入力!C155&\"　\"&名簿入力!D155","v":"　"}]
[null,155,{"$f":"名簿入力!B156","v":0},null,{"$f":"名簿入力!C156&\"　\"&名簿入力!D156","v":"　"}]
[null,156,{"$f":"名簿入力!B157","v":0},null,{"$f":"名簿入力!C157&\"　\"&名簿入力!D157","v":"　"}]
[null,157,{"$f":"名簿入力!B158","v":0},null,{"$f":"名簿入力!C158&\"　\"&名簿入力!D158","v":"　"}]
[null,158,{"$f":"名簿入力!B159","v":0},null,{"$f":"名簿入力!C159&\"　\"&名簿入力!D159","v":"　"}]
[null,159,{"$f":"名簿入力!B160","v":0},null,{"$f":"名簿入力!C160&\"　\"&名簿入力!D160","v":"　"}]
[null,160,{"$f":"名簿入力!B161","v":0},null,{"$f":"名簿入力!C161&\"　\"&名簿入力!D161","v":"　"}]
[null,161,{"$f":"名簿入力!B162","v":0},null,{"$f":"名簿入力!C162&\"　\"&名簿入力!D162","v":"　"}]
[null,162,{"$f":"名簿入力!B163","v":0},null,{"$f":"名簿入力!C163&\"　\"&名簿入力!D163","v":"　"}]
[null,163,{"$f":"名簿入力!B164","v":0},null,{"$f":"名簿入力!C164&\"　\"&名簿入力!D164","v":"　"}]
[null,164,{"$f":"名簿入力!B165","v":0},null,{"$f":"名簿入力!C165&\"　\"&名簿入力!D165","v":"　"}]
[null,165,{"$f":"名簿入力!B166","v":0},null,{"$f":"名簿入力!C166&\"　\"&名簿入力!D166","v":"　"}]
[null,166,{"$f":"名簿入力!B167","v":0},null,{"$f":"名簿入力!C167&\"　\"&名簿入力!D167","v":"　"}]
[null,167,{"$f":"名簿入力!B168","v":0},null,{"$f":"名簿入力!C168&\"　\"&名簿入力!D168","v":"　"}]
[null,168,{"$f":"名簿入力!B169","v":0},null,{"$f":"名簿入力!C169&\"　\"&名簿入力!D169","v":"　"}]
[null,169,{"$f":"名簿入力!B170","v":0},null,{"$f":"名簿入力!C170&\"　\"&名簿入力!D170","v":"　"}]
[null,170,{"$f":"名簿入力!B171","v":0},null,{"$f":"名簿入力!C171&\"　\"&名簿入力!D171","v":"　"}]
[null,171,{"$f":"名簿入力!B172","v":0},null,{"$f":"名簿入力!C172&\"　\"&名簿入力!D172","v":"　"}]
[null,172,{"$f":"名簿入力!B173","v":0},null,{"$f":"名簿入力!C173&\"　\"&名簿入力!D173","v":"　"}]
[null,173,{"$f":"名簿入力!B174","v":0},null,{"$f":"名簿入力!C174&\"　\"&名簿入力!D174","v":"　"}]
[null,174,{"$f":"名簿入力!B175","v":0},null,{"$f":"名簿入力!C175&\"　\"&名簿入力!D175","v":"　"}]
[null,175,{"$f":"名簿入力!B176","v":0},null,{"$f":"名簿入力!C176&\"　\"&名簿入力!D176","v":"　"}]
[null,176,{"$f":"名簿入力!B177","v":0},null,{"$f":"名簿入力!C177&\"　\"&名簿入力!D177","v":"　"}]
[null,177,{"$f":"名簿入力!B178","v":0},null,{"$f":"名簿入力!C178&\"　\"&名簿入力!D178","v":"　"}]
[null,178,{"$f":"名簿入力!B179","v":0},null,{"$f":"名簿入力!C179&\"　\"&名簿入力!D179","v":"　"}]
[null,179,{"$f":"名簿入力!B180","v":0},null,{"$f":"名簿入力!C180&\"　\"&名簿入力!D180","v":"　"}]
[null,180,{"$f":"名簿入力!B181","v":0},null,{"$f":"名簿入力!C181&\"　\"&名簿入力!D181","v":"　"}]
[null,181,{"$f":"名簿入力!B182","v":0},null,{"$f":"名簿入力!C182&\"　\"&名簿入力!D182","v":"　"}]
[null,182,{"$f":"名簿入力!B183","v":0},null,{"$f":"名簿入力!C183&\"　\"&名簿入力!D183","v":"　"}]
[null,183,{"$f":"名簿入力!B184","v":0},null,{"$f":"名簿入力!C184&\"　\"&名簿入力!D184","v":"　"}]
[null,184,{"$f":"名簿入力!B185","v":0},null,{"$f":"名簿入力!C185&\"　\"&名簿入力!D185","v":"　"}]
[null,185,{"$f":"名簿入力!B186","v":0},null,{"$f":"名簿入力!C186&\"　\"&名簿入力!D186","v":"　"}]
[null,186,{"$f":"名簿入力!B187","v":0},null,{"$f":"名簿入力!C187&\"　\"&名簿入力!D187","v":"　"}]
[null,187,{"$f":"名簿入力!B188","v":0},null,{"$f":"名簿入力!C188&\"　\"&名簿入力!D188","v":"　"}]
[null,188,{"$f":"名簿入力!B189","v":0},null,{"$f":"名簿入力!C189&\"　\"&名簿入力!D189","v":"　"}]
[null,189,{"$f":"名簿入力!B190","v":0},null,{"$f":"名簿入力!C190&\"　\"&名簿入力!D190","v":"　"}]
[null,190,{"$f":"名簿入力!B191","v":0},null,{"$f":"名簿入力!C191&\"　\"&名簿入力!D191","v":"　"}]
[null,191,{"$f":"名簿入力!B192","v":0},null,{"$f":"名簿入力!C192&\"　\"&名簿入力!D192","v":"　"}]
[null,192,{"$f":"名簿入力!B193","v":0},null,{"$f":"名簿入力!C193&\"　\"&名簿入力!D193","v":"　"}]
[null,193,{"$f":"名簿入力!B194","v":0},null,{"$f":"名簿入力!C194&\"　\"&名簿入力!D194","v":"　"}]
[null,194,{"$f":"名簿入力!B195","v":0},null,{"$f":"名簿入力!C195&\"　\"&名簿入力!D195","v":"　"}]
[null,195,{"$f":"名簿入力!B196","v":0},null,{"$f":"名簿入力!C196&\"　\"&名簿入力!D196","v":"　"}]
[null,196,{"$f":"名簿入力!B197","v":0},null,{"$f":"名簿入力!C197&\"　\"&名簿入力!D197","v":"　"}]
[null,197,{"$f":"名簿入力!B198","v":0},null,{"$f":"名簿入力!C198&\"　\"&名簿入力!D198","v":"　"}]
[null,198,{"$f":"名簿入力!B199","v":0},null,{"$f":"名簿入力!C199&\"　\"&名簿入力!D199","v":"　"}]
[null,199,{"$f":"名簿入力!B200","v":0},null,{"$f":"名簿入力!C200&\"　\"&名簿入力!D200","v":"　"}]
[null,200,{"$f":"名簿入力!B201","v":0},null,{"$f":"名簿入力!C201&\"　\"&名簿入力!D201","v":"　"}]

{"sheet":"名簿入力","index":1,"n_rows":219,"n_cols":5,"rows_kept":219,"cut":false,"hidden":false,"merged":[]}
["No.","所属","職名","氏名"]
[1,"うえもんの教材室","工場長","坂上　茂"]
[2,"鹿児島ＡＴ研究会","会員","坂上　茂"]
[3,"鹿児島県マルチメディア教育研究会","会員","坂上　茂"]
[4]
[5]
[6]
[7]
[8]
[9]
[10]
[11]
[12]
[13]
[14]
[15]
[16]
[17]
[18]
[19]
[20]
[21]
[22]
[23]
[24]
[25]
[26]
[27]
[28]
[29]
[30]
[31]
[32]
[33]
[34]
[35]
[36]
[37]
[38]
[39]
[40]
[41]
[42]
[43]
[44]
[45]
[46]
[47]
[48]
[49]
[50]
[51]
[52]
[53]
[54]
[55]
[56]
[57]
[58]
[59]
[60]
[61]
[62]
[63]
[64]
[65]
[66]
[67]
[68]
[69]
[70]
[71]
[72]
[73]
[74]
[75]
[76]
[77]
[78]
[79]
[80]
[81]
[82]
[83]
[84]
[85]
[86]
[87]
[88]
[89]
[90]
[91]
[92]
[93]
[94]
[95]
[96]
[97]
[98]
[99]
[100]
[101]
[102]
[103]
[104]
[105]
[106]
[107]
[108]
[109]
[110]
[111]
[112]
[113]
[114]
[115]
[116]
[117]
[118]
[119]
[120]
[121]
[122]
[123]
[124]
[125]
[126]
[127]
[128]
[129]
[130]
[131]
[132]
[133]
[134]
[135]
[136]
[137]
[138]
[139]
[140]
[141]
[142]
[143]
[144]
[145]
[146]
[147]
[148]
[149]
[150]
[151]
[152]
[153]
[154]
[155]
[156]
[157]
[158]
[159]
[160]
[161]
[162]
[163]
[164]
[165]
[166]
[167]
[168]
[169]
[170]
[171]
[172]
[173]
[174]
[175]
[176]
[177]
[178]
[179]
[180]
[181]
[182]
[183]
[184]
[185]
[186]
[187]
[188]
[189]
[190]
[191]
[192]
[193]
[194]
[195]
[196]
[197]
[198]
[199]
[200]
[]
[]
[]
[]
[]
[]
[]
[]
[]
[]
[]
[]
[]
[]
[]
[]
[]
[null,null,null,null,{"$f":"C219&\"　\"&D219","v":"　"}]